Package: biodbMirbase Version: 1.4.0 Command: rm -rf biodbMirbase.buildbin-libdir && mkdir biodbMirbase.buildbin-libdir && F:\biocbuild\bbs-3.17-bioc\R\bin\R.exe CMD INSTALL --build --library=biodbMirbase.buildbin-libdir biodbMirbase_1.4.0.tar.gz StartedAt: 2023-07-21 09:37:36 -0400 (Fri, 21 Jul 2023) EndedAt: 2023-07-21 09:37:50 -0400 (Fri, 21 Jul 2023) EllapsedTime: 14.7 seconds RetCode: 0 Status: OK PackageFile: biodbMirbase_1.4.0.zip PackageFileSize: 383.1 KiB