Package: biodbMirbase Version: 1.4.1 Command: /home/biocbuild/bbs-3.17-bioc/R/bin/R CMD build --keep-empty-dirs --no-resave-data biodbMirbase StartedAt: 2023-10-15 16:05:57 -0400 (Sun, 15 Oct 2023) EndedAt: 2023-10-15 16:06:09 -0400 (Sun, 15 Oct 2023) EllapsedTime: 12.6 seconds RetCode: 1 Status: ERROR PackageFile: None PackageFileSize: NA