git_url: https://git.bioconductor.org/packages/biodbMirbase git_branch: RELEASE_3_17 git_last_commit: 8807efc git_last_commit_date: 2023-08-11 08:53:35 -0400 (Fri, 11 Aug 2023) Package: biodbMirbase Version: 1.4.1 Maintainer: Pierrick Roger MaintainerEmail: pierrick.roger at cea.fr