Package: biodbLipidmaps Version: 1.6.0 Command: F:\biocbuild\bbs-3.17-bioc\R\bin\R.exe CMD INSTALL biodbLipidmaps StartedAt: 2023-10-15 16:41:19 -0400 (Sun, 15 Oct 2023) EndedAt: 2023-10-15 16:41:28 -0400 (Sun, 15 Oct 2023) EllapsedTime: 9.9 seconds RetCode: 0 Status: OK