Package: biodbLipidmaps Version: 1.6.0 Command: F:\biocbuild\bbs-3.17-bioc\R\bin\R.exe CMD check --no-multiarch --install=check:biodbLipidmaps.install-out.txt --library=F:\biocbuild\bbs-3.17-bioc\R\library --no-vignettes --timings biodbLipidmaps_1.6.0.tar.gz StartedAt: 2023-10-15 23:58:01 -0400 (Sun, 15 Oct 2023) EndedAt: 2023-10-15 23:59:33 -0400 (Sun, 15 Oct 2023) EllapsedTime: 92.6 seconds RetCode: 0 Status: OK CheckDir: biodbLipidmaps.Rcheck Warnings: 0