Package: biodbLipidmaps Version: 1.6.0 Command: chmod a+r biodbLipidmaps -R && F:\biocbuild\bbs-3.17-bioc\R\bin\R.exe CMD build --keep-empty-dirs --no-resave-data biodbLipidmaps StartedAt: 2023-10-15 17:43:41 -0400 (Sun, 15 Oct 2023) EndedAt: 2023-10-15 17:44:27 -0400 (Sun, 15 Oct 2023) EllapsedTime: 45.6 seconds RetCode: 0 Status: OK PackageFile: biodbLipidmaps_1.6.0.tar.gz PackageFileSize: 304.7 KiB