Package: biodbLipidmaps Version: 1.6.0 Command: rm -rf biodbLipidmaps.buildbin-libdir && mkdir biodbLipidmaps.buildbin-libdir && F:\biocbuild\bbs-3.17-bioc\R\bin\R.exe CMD INSTALL --build --library=biodbLipidmaps.buildbin-libdir biodbLipidmaps_1.6.0.tar.gz StartedAt: 2023-10-16 08:29:23 -0400 (Mon, 16 Oct 2023) EndedAt: 2023-10-16 08:29:38 -0400 (Mon, 16 Oct 2023) EllapsedTime: 15.9 seconds RetCode: 0 Status: OK PackageFile: biodbLipidmaps_1.6.0.zip PackageFileSize: 390.5 KiB