Package: biodbKegg Version: 1.6.1 Command: F:\biocbuild\bbs-3.17-bioc\R\bin\R.exe CMD INSTALL biodbKegg StartedAt: 2023-10-15 16:41:30 -0400 (Sun, 15 Oct 2023) EndedAt: 2023-10-15 16:41:53 -0400 (Sun, 15 Oct 2023) EllapsedTime: 22.7 seconds RetCode: 0 Status: OK