Package: biodbKegg Version: 1.6.1 Command: F:\biocbuild\bbs-3.17-bioc\R\bin\R.exe CMD check --no-multiarch --install=check:biodbKegg.install-out.txt --library=F:\biocbuild\bbs-3.17-bioc\R\library --no-vignettes --timings biodbKegg_1.6.1.tar.gz StartedAt: 2023-10-14 00:13:36 -0400 (Sat, 14 Oct 2023) EndedAt: 2023-10-14 00:39:18 -0400 (Sat, 14 Oct 2023) EllapsedTime: 1542.5 seconds RetCode: 1 Status: ERROR CheckDir: biodbKegg.Rcheck Warnings: NA