Package: biodbKegg Version: 1.6.1 Command: /home/biocbuild/bbs-3.17-bioc/R/bin/R CMD INSTALL biodbKegg StartedAt: 2023-10-15 15:36:58 -0400 (Sun, 15 Oct 2023) EndedAt: 2023-10-15 15:37:13 -0400 (Sun, 15 Oct 2023) EllapsedTime: 14.1 seconds RetCode: 0 Status: OK