Package: biodbKegg Version: 1.6.1 Command: /Library/Frameworks/R.framework/Resources/bin/R CMD build --keep-empty-dirs --no-resave-data biodbKegg StartedAt: 2023-10-15 17:01:31 -0400 (Sun, 15 Oct 2023) EndedAt: 2023-10-15 17:05:13 -0400 (Sun, 15 Oct 2023) EllapsedTime: 221.5 seconds RetCode: 0 Status: OK PackageFile: biodbKegg_1.6.1.tar.gz PackageFileSize: 530.4 KiB