Package: biodbHmdb Version: 1.6.1 Command: /Library/Frameworks/R.framework/Resources/bin/R CMD INSTALL biodbHmdb StartedAt: 2023-10-15 15:59:33 -0400 (Sun, 15 Oct 2023) EndedAt: 2023-10-15 16:02:02 -0400 (Sun, 15 Oct 2023) EllapsedTime: 149.0 seconds RetCode: 0 Status: OK