Package: biodbHmdb Version: 1.6.1 Command: /Library/Frameworks/R.framework/Resources/bin/R CMD check --install=check:biodbHmdb.install-out.txt --library=/Library/Frameworks/R.framework/Resources/library --no-vignettes --timings biodbHmdb_1.6.1.tar.gz StartedAt: 2023-10-15 23:06:53 -0400 (Sun, 15 Oct 2023) EndedAt: 2023-10-15 23:16:31 -0400 (Sun, 15 Oct 2023) EllapsedTime: 578.6 seconds RetCode: 1 Status: ERROR CheckDir: biodbHmdb.Rcheck Warnings: NA