Package: biodbHmdb Version: 1.6.1 Command: /Library/Frameworks/R.framework/Resources/bin/R CMD build --keep-empty-dirs --no-resave-data biodbHmdb StartedAt: 2023-10-15 17:01:23 -0400 (Sun, 15 Oct 2023) EndedAt: 2023-10-15 17:04:14 -0400 (Sun, 15 Oct 2023) EllapsedTime: 170.9 seconds RetCode: 0 Status: OK PackageFile: biodbHmdb_1.6.1.tar.gz PackageFileSize: 407.5 KiB