Package: biodbHmdb Version: 1.6.1 Command: rm -rf biodbHmdb.buildbin-libdir && mkdir biodbHmdb.buildbin-libdir && /Users/biocbuild/BBS/utils/build-universal.sh biodbHmdb_1.6.1.tar.gz /Library/Frameworks/R.framework/Resources/bin/R biodbHmdb.buildbin-libdir StartedAt: 2023-10-16 09:02:30 -0400 (Mon, 16 Oct 2023) EndedAt: 2023-10-16 09:05:09 -0400 (Mon, 16 Oct 2023) EllapsedTime: 159.4 seconds RetCode: 0 Status: OK PackageFile: biodbHmdb_1.6.1.tgz PackageFileSize: 694.7 KiB