Package: biodbExpasy Version: 1.4.0 Command: chmod a+r biodbExpasy -R && F:\biocbuild\bbs-3.17-bioc\R\bin\R.exe CMD build --keep-empty-dirs --no-resave-data biodbExpasy StartedAt: 2023-10-15 17:42:16 -0400 (Sun, 15 Oct 2023) EndedAt: 2023-10-15 17:44:01 -0400 (Sun, 15 Oct 2023) EllapsedTime: 104.8 seconds RetCode: 0 Status: OK PackageFile: biodbExpasy_1.4.0.tar.gz PackageFileSize: 303.8 KiB