Package: biodbExpasy Version: 1.4.0 Command: /Library/Frameworks/R.framework/Resources/bin/R CMD INSTALL biodbExpasy StartedAt: 2023-10-15 15:59:08 -0400 (Sun, 15 Oct 2023) EndedAt: 2023-10-15 15:59:31 -0400 (Sun, 15 Oct 2023) EllapsedTime: 23.6 seconds RetCode: 0 Status: OK