Package: biodbExpasy Version: 1.4.0 Command: rm -rf biodbExpasy.buildbin-libdir && mkdir biodbExpasy.buildbin-libdir && /Users/biocbuild/BBS/utils/build-universal.sh biodbExpasy_1.4.0.tar.gz /Library/Frameworks/R.framework/Resources/bin/R biodbExpasy.buildbin-libdir StartedAt: 2023-10-16 09:02:27 -0400 (Mon, 16 Oct 2023) EndedAt: 2023-10-16 09:02:54 -0400 (Mon, 16 Oct 2023) EllapsedTime: 26.3 seconds RetCode: 0 Status: OK PackageFile: biodbExpasy_1.4.0.tgz PackageFileSize: 387.2 KiB