Package: biodbChebi Version: 1.6.0 Command: F:\biocbuild\bbs-3.17-bioc\R\bin\R.exe CMD INSTALL biodbChebi StartedAt: 2023-10-15 16:44:08 -0400 (Sun, 15 Oct 2023) EndedAt: 2023-10-15 16:44:18 -0400 (Sun, 15 Oct 2023) EllapsedTime: 10.1 seconds RetCode: 0 Status: OK