Package: biodbChebi Version: 1.6.0 Command: chmod a+r biodbChebi -R && F:\biocbuild\bbs-3.17-bioc\R\bin\R.exe CMD build --keep-empty-dirs --no-resave-data biodbChebi StartedAt: 2023-10-15 17:41:59 -0400 (Sun, 15 Oct 2023) EndedAt: 2023-10-15 17:44:11 -0400 (Sun, 15 Oct 2023) EllapsedTime: 131.9 seconds RetCode: 0 Status: OK PackageFile: biodbChebi_1.6.0.tar.gz PackageFileSize: 312.2 KiB