Package: biodbChebi Version: 1.6.0 Command: rm -rf biodbChebi.buildbin-libdir && mkdir biodbChebi.buildbin-libdir && F:\biocbuild\bbs-3.17-bioc\R\bin\R.exe CMD INSTALL --build --library=biodbChebi.buildbin-libdir biodbChebi_1.6.0.tar.gz StartedAt: 2023-10-16 08:29:18 -0400 (Mon, 16 Oct 2023) EndedAt: 2023-10-16 08:29:28 -0400 (Mon, 16 Oct 2023) EllapsedTime: 10.1 seconds RetCode: 0 Status: OK PackageFile: biodbChebi_1.6.0.zip PackageFileSize: 406.4 KiB