Package: biodbChebi Version: 1.6.0 Command: /home/biocbuild/bbs-3.17-bioc/R/bin/R CMD build --keep-empty-dirs --no-resave-data biodbChebi StartedAt: 2023-10-15 16:05:40 -0400 (Sun, 15 Oct 2023) EndedAt: 2023-10-15 16:05:55 -0400 (Sun, 15 Oct 2023) EllapsedTime: 14.9 seconds RetCode: 0 Status: OK PackageFile: biodbChebi_1.6.0.tar.gz PackageFileSize: 312.2 KiB