Package: biodb Version: 1.8.1 Command: F:\biocbuild\bbs-3.17-bioc\R\bin\R.exe CMD check --no-multiarch --install=check:biodb.install-out.txt --library=F:\biocbuild\bbs-3.17-bioc\R\library --no-vignettes --timings biodb_1.8.1.tar.gz StartedAt: 2023-10-15 23:57:23 -0400 (Sun, 15 Oct 2023) EndedAt: 2023-10-16 00:05:07 -0400 (Mon, 16 Oct 2023) EllapsedTime: 463.0 seconds RetCode: 0 Status: WARNINGS CheckDir: biodb.Rcheck Warnings: 1