Package: biodb Version: 1.8.1 Command: rm -rf biodb.buildbin-libdir && mkdir biodb.buildbin-libdir && F:\biocbuild\bbs-3.17-bioc\R\bin\R.exe CMD INSTALL --build --library=biodb.buildbin-libdir biodb_1.8.1.tar.gz StartedAt: 2023-10-16 08:29:16 -0400 (Mon, 16 Oct 2023) EndedAt: 2023-10-16 08:30:40 -0400 (Mon, 16 Oct 2023) EllapsedTime: 84.3 seconds RetCode: 0 Status: OK PackageFile: biodb_1.8.1.zip PackageFileSize: 4.717 MiB