Package: biodb Version: 1.8.1 Command: /Library/Frameworks/R.framework/Resources/bin/R CMD INSTALL biodb StartedAt: 2023-10-15 15:55:27 -0400 (Sun, 15 Oct 2023) EndedAt: 2023-10-15 15:59:08 -0400 (Sun, 15 Oct 2023) EllapsedTime: 220.6 seconds RetCode: 0 Status: OK