Package: biodb Version: 1.8.1 Command: rm -rf biodb.buildbin-libdir && mkdir biodb.buildbin-libdir && /Users/biocbuild/BBS/utils/build-universal.sh biodb_1.8.1.tar.gz /Library/Frameworks/R.framework/Resources/bin/R biodb.buildbin-libdir StartedAt: 2023-10-16 09:02:24 -0400 (Mon, 16 Oct 2023) EndedAt: 2023-10-16 09:06:22 -0400 (Mon, 16 Oct 2023) EllapsedTime: 238.3 seconds RetCode: 0 Status: OK PackageFile: biodb_1.8.1.tgz PackageFileSize: 4.421 MiB