Package: biocthis Version: 1.10.3 Command: F:\biocbuild\bbs-3.17-bioc\R\bin\R.exe CMD INSTALL biocthis StartedAt: 2023-10-15 16:16:58 -0400 (Sun, 15 Oct 2023) EndedAt: 2023-10-15 16:17:06 -0400 (Sun, 15 Oct 2023) EllapsedTime: 8.4 seconds RetCode: 0 Status: OK