Package: biocthis Version: 1.10.3 Command: F:\biocbuild\bbs-3.17-bioc\R\bin\R.exe CMD check --no-multiarch --install=check:biocthis.install-out.txt --library=F:\biocbuild\bbs-3.17-bioc\R\library --no-vignettes --timings biocthis_1.10.3.tar.gz StartedAt: 2023-10-15 23:56:25 -0400 (Sun, 15 Oct 2023) EndedAt: 2023-10-15 23:57:20 -0400 (Sun, 15 Oct 2023) EllapsedTime: 55.0 seconds RetCode: 0 Status: OK CheckDir: biocthis.Rcheck Warnings: 0