Package: biocthis Version: 1.10.3 Command: chmod a+r biocthis -R && F:\biocbuild\bbs-3.17-bioc\R\bin\R.exe CMD build --keep-empty-dirs --no-resave-data biocthis StartedAt: 2023-10-15 17:40:31 -0400 (Sun, 15 Oct 2023) EndedAt: 2023-10-15 17:43:40 -0400 (Sun, 15 Oct 2023) EllapsedTime: 189.8 seconds RetCode: 0 Status: OK PackageFile: biocthis_1.10.3.tar.gz PackageFileSize: 658.1 KiB