Package: biocthis Version: 1.10.3 Command: /home/biocbuild/bbs-3.17-bioc/R/bin/R CMD INSTALL biocthis StartedAt: 2023-10-15 15:20:41 -0400 (Sun, 15 Oct 2023) EndedAt: 2023-10-15 15:20:45 -0400 (Sun, 15 Oct 2023) EllapsedTime: 3.4 seconds RetCode: 0 Status: OK