Package: biocthis Version: 1.10.3 Command: /home/biocbuild/bbs-3.17-bioc/R/bin/R CMD check --install=check:biocthis.install-out.txt --library=/home/biocbuild/bbs-3.17-bioc/R/site-library --timings biocthis_1.10.3.tar.gz StartedAt: 2023-10-15 19:34:46 -0400 (Sun, 15 Oct 2023) EndedAt: 2023-10-15 19:35:23 -0400 (Sun, 15 Oct 2023) EllapsedTime: 37.6 seconds RetCode: 0 Status: OK CheckDir: biocthis.Rcheck Warnings: 0