Package: biocthis Version: 1.10.3 Command: /Library/Frameworks/R.framework/Resources/bin/R CMD INSTALL biocthis StartedAt: 2023-10-15 15:31:30 -0400 (Sun, 15 Oct 2023) EndedAt: 2023-10-15 15:31:41 -0400 (Sun, 15 Oct 2023) EllapsedTime: 11.4 seconds RetCode: 0 Status: OK