Package: biocthis Version: 1.10.3 Command: /Library/Frameworks/R.framework/Resources/bin/R CMD check --install=check:biocthis.install-out.txt --library=/Library/Frameworks/R.framework/Resources/library --no-vignettes --timings biocthis_1.10.3.tar.gz StartedAt: 2023-10-15 23:05:37 -0400 (Sun, 15 Oct 2023) EndedAt: 2023-10-15 23:06:53 -0400 (Sun, 15 Oct 2023) EllapsedTime: 75.1 seconds RetCode: 0 Status: OK CheckDir: biocthis.Rcheck Warnings: 0