Package: biocthis Version: 1.10.3 Command: /Library/Frameworks/R.framework/Resources/bin/R CMD build --keep-empty-dirs --no-resave-data biocthis StartedAt: 2023-10-15 17:00:36 -0400 (Sun, 15 Oct 2023) EndedAt: 2023-10-15 17:01:14 -0400 (Sun, 15 Oct 2023) EllapsedTime: 37.7 seconds RetCode: 0 Status: OK PackageFile: biocthis_1.10.3.tar.gz PackageFileSize: 657.5 KiB