Package: biocthis Version: 1.10.3 Command: rm -rf biocthis.buildbin-libdir && mkdir biocthis.buildbin-libdir && /Users/biocbuild/BBS/utils/build-universal.sh biocthis_1.10.3.tar.gz /Library/Frameworks/R.framework/Resources/bin/R biocthis.buildbin-libdir StartedAt: 2023-10-16 09:02:19 -0400 (Mon, 16 Oct 2023) EndedAt: 2023-10-16 09:02:32 -0400 (Mon, 16 Oct 2023) EllapsedTime: 12.9 seconds RetCode: 0 Status: OK PackageFile: biocthis_1.10.3.tgz PackageFileSize: 696.6 KiB