Package: biocViews Version: 1.68.2 Command: rm -rf biocViews.buildbin-libdir && mkdir biocViews.buildbin-libdir && F:\biocbuild\bbs-3.17-bioc\R\bin\R.exe CMD INSTALL --build --library=biocViews.buildbin-libdir biocViews_1.68.2.tar.gz StartedAt: 2023-10-16 08:29:13 -0400 (Mon, 16 Oct 2023) EndedAt: 2023-10-16 08:29:34 -0400 (Mon, 16 Oct 2023) EllapsedTime: 20.9 seconds RetCode: 0 Status: OK PackageFile: biocViews_1.68.2.zip PackageFileSize: 891.9 KiB