Package: biocViews Version: 1.68.2 Command: /home/biocbuild/bbs-3.17-bioc/R/bin/R CMD INSTALL biocViews StartedAt: 2023-10-15 15:10:45 -0400 (Sun, 15 Oct 2023) EndedAt: 2023-10-15 15:10:56 -0400 (Sun, 15 Oct 2023) EllapsedTime: 11.5 seconds RetCode: 0 Status: OK