Package: biocViews Version: 1.68.2 Command: /home/biocbuild/bbs-3.17-bioc/R/bin/R CMD check --install=check:biocViews.install-out.txt --library=/home/biocbuild/bbs-3.17-bioc/R/site-library --timings biocViews_1.68.2.tar.gz StartedAt: 2023-10-15 19:34:55 -0400 (Sun, 15 Oct 2023) EndedAt: 2023-10-15 19:35:53 -0400 (Sun, 15 Oct 2023) EllapsedTime: 57.6 seconds RetCode: 0 Status: OK CheckDir: biocViews.Rcheck Warnings: 0