Package: biocViews Version: 1.68.2 Command: /home/biocbuild/bbs-3.17-bioc/R/bin/R CMD build --keep-empty-dirs --no-resave-data biocViews StartedAt: 2023-10-15 16:05:25 -0400 (Sun, 15 Oct 2023) EndedAt: 2023-10-15 16:05:40 -0400 (Sun, 15 Oct 2023) EllapsedTime: 14.6 seconds RetCode: 0 Status: OK PackageFile: biocViews_1.68.2.tar.gz PackageFileSize: 506.2 KiB