Package: biocViews Version: 1.68.2 Command: /Library/Frameworks/R.framework/Resources/bin/R CMD INSTALL biocViews StartedAt: 2023-10-15 15:09:43 -0400 (Sun, 15 Oct 2023) EndedAt: 2023-10-15 15:10:21 -0400 (Sun, 15 Oct 2023) EllapsedTime: 37.3 seconds RetCode: 0 Status: OK