Package: biocViews Version: 1.68.2 Command: /Library/Frameworks/R.framework/Resources/bin/R CMD build --keep-empty-dirs --no-resave-data biocViews StartedAt: 2023-10-15 17:01:06 -0400 (Sun, 15 Oct 2023) EndedAt: 2023-10-15 17:01:49 -0400 (Sun, 15 Oct 2023) EllapsedTime: 43.3 seconds RetCode: 0 Status: OK PackageFile: biocViews_1.68.2.tar.gz PackageFileSize: 506.2 KiB