Package: biocGraph Version: 1.62.0 Command: chmod a+r biocGraph -R && F:\biocbuild\bbs-3.17-bioc\R\bin\R.exe CMD build --keep-empty-dirs --no-resave-data biocGraph StartedAt: 2023-10-15 17:38:30 -0400 (Sun, 15 Oct 2023) EndedAt: 2023-10-15 17:39:07 -0400 (Sun, 15 Oct 2023) EllapsedTime: 37.2 seconds RetCode: 0 Status: OK PackageFile: biocGraph_1.62.0.tar.gz PackageFileSize: 448.9 KiB