Package: biobtreeR Version: 1.12.0 Command: /home/biocbuild/bbs-3.17-bioc/R/bin/R CMD check --install=check:biobtreeR.install-out.txt --library=/home/biocbuild/bbs-3.17-bioc/R/site-library --timings biobtreeR_1.12.0.tar.gz StartedAt: 2023-10-15 19:31:17 -0400 (Sun, 15 Oct 2023) EndedAt: 2023-10-15 19:32:45 -0400 (Sun, 15 Oct 2023) EllapsedTime: 88.2 seconds RetCode: 0 Status: OK CheckDir: biobtreeR.Rcheck Warnings: 0