Package: biobtreeR Version: 1.12.0 Command: /Library/Frameworks/R.framework/Resources/bin/R CMD build --keep-empty-dirs --no-resave-data biobtreeR StartedAt: 2023-10-15 16:56:49 -0400 (Sun, 15 Oct 2023) EndedAt: 2023-10-15 16:58:45 -0400 (Sun, 15 Oct 2023) EllapsedTime: 115.1 seconds RetCode: 0 Status: OK PackageFile: biobtreeR_1.12.0.tar.gz PackageFileSize: 938.2 KiB