Package: biobtreeR Version: 1.12.0 Command: rm -rf biobtreeR.buildbin-libdir && mkdir biobtreeR.buildbin-libdir && /Users/biocbuild/BBS/utils/build-universal.sh biobtreeR_1.12.0.tar.gz /Library/Frameworks/R.framework/Resources/bin/R biobtreeR.buildbin-libdir StartedAt: 2023-10-16 09:01:26 -0400 (Mon, 16 Oct 2023) EndedAt: 2023-10-16 09:01:37 -0400 (Mon, 16 Oct 2023) EllapsedTime: 11.3 seconds RetCode: 0 Status: OK PackageFile: biobtreeR_1.12.0.tgz PackageFileSize: 978 KiB