Package: biobroom Version: 1.32.0 Command: rm -rf biobroom.buildbin-libdir && mkdir biobroom.buildbin-libdir && F:\biocbuild\bbs-3.17-bioc\R\bin\R.exe CMD INSTALL --build --library=biobroom.buildbin-libdir biobroom_1.32.0.tar.gz StartedAt: 2023-10-16 08:28:32 -0400 (Mon, 16 Oct 2023) EndedAt: 2023-10-16 08:28:44 -0400 (Mon, 16 Oct 2023) EllapsedTime: 12.3 seconds RetCode: 0 Status: OK PackageFile: biobroom_1.32.0.zip PackageFileSize: 695.7 KiB