Package: bioassayR Version: 1.38.0 Command: rm -rf bioassayR.buildbin-libdir && mkdir bioassayR.buildbin-libdir && F:\biocbuild\bbs-3.17-bioc\R\bin\R.exe CMD INSTALL --build --library=bioassayR.buildbin-libdir bioassayR_1.38.0.tar.gz StartedAt: 2023-10-16 08:28:28 -0400 (Mon, 16 Oct 2023) EndedAt: 2023-10-16 08:28:52 -0400 (Mon, 16 Oct 2023) EllapsedTime: 23.8 seconds RetCode: 0 Status: OK PackageFile: bioassayR_1.38.0.zip PackageFileSize: 988.6 KiB