Package: bigmelon Version: 1.26.0 Command: rm -rf bigmelon.buildbin-libdir && mkdir bigmelon.buildbin-libdir && F:\biocbuild\bbs-3.17-bioc\R\bin\R.exe CMD INSTALL --build --library=bigmelon.buildbin-libdir bigmelon_1.26.0.tar.gz StartedAt: 2023-10-16 08:28:23 -0400 (Mon, 16 Oct 2023) EndedAt: 2023-10-16 08:29:35 -0400 (Mon, 16 Oct 2023) EllapsedTime: 72.1 seconds RetCode: 0 Status: OK PackageFile: bigmelon_1.26.0.zip PackageFileSize: 1.176 MiB