Package: bigmelon Version: 1.26.0 Command: /home/biocbuild/bbs-3.17-bioc/R/bin/R CMD INSTALL bigmelon StartedAt: 2023-10-15 15:48:18 -0400 (Sun, 15 Oct 2023) EndedAt: 2023-10-15 15:49:13 -0400 (Sun, 15 Oct 2023) EllapsedTime: 54.8 seconds RetCode: 0 Status: OK