Package: bigmelon Version: 1.26.0 Command: /home/biocbuild/bbs-3.17-bioc/R/bin/R CMD check --install=check:bigmelon.install-out.txt --library=/home/biocbuild/bbs-3.17-bioc/R/site-library --timings bigmelon_1.26.0.tar.gz StartedAt: 2023-10-15 19:29:18 -0400 (Sun, 15 Oct 2023) EndedAt: 2023-10-15 19:36:58 -0400 (Sun, 15 Oct 2023) EllapsedTime: 460.4 seconds RetCode: 0 Status: OK CheckDir: bigmelon.Rcheck Warnings: 0